BEGIN:VCALENDAR
VERSION:2.0
PRODID:-//Stadtmusik Arbon - ECPv6.15.20//NONSGML v1.0//EN
CALSCALE:GREGORIAN
METHOD:PUBLISH
X-ORIGINAL-URL:https://www.stadtmusikarbon.ch
X-WR-CALDESC:Veranstaltungen für Stadtmusik Arbon
REFRESH-INTERVAL;VALUE=DURATION:PT1H
X-Robots-Tag:noindex
X-PUBLISHED-TTL:PT1H
BEGIN:VTIMEZONE
TZID:Europe/Zurich
BEGIN:DAYLIGHT
TZOFFSETFROM:+0100
TZOFFSETTO:+0200
TZNAME:CEST
DTSTART:20210328T010000
END:DAYLIGHT
BEGIN:STANDARD
TZOFFSETFROM:+0200
TZOFFSETTO:+0100
TZNAME:CET
DTSTART:20211031T010000
END:STANDARD
BEGIN:DAYLIGHT
TZOFFSETFROM:+0100
TZOFFSETTO:+0200
TZNAME:CEST
DTSTART:20220327T010000
END:DAYLIGHT
BEGIN:STANDARD
TZOFFSETFROM:+0200
TZOFFSETTO:+0100
TZNAME:CET
DTSTART:20221030T010000
END:STANDARD
BEGIN:DAYLIGHT
TZOFFSETFROM:+0100
TZOFFSETTO:+0200
TZNAME:CEST
DTSTART:20230326T010000
END:DAYLIGHT
BEGIN:STANDARD
TZOFFSETFROM:+0200
TZOFFSETTO:+0100
TZNAME:CET
DTSTART:20231029T010000
END:STANDARD
BEGIN:DAYLIGHT
TZOFFSETFROM:+0100
TZOFFSETTO:+0200
TZNAME:CEST
DTSTART:20240331T010000
END:DAYLIGHT
BEGIN:STANDARD
TZOFFSETFROM:+0200
TZOFFSETTO:+0100
TZNAME:CET
DTSTART:20241027T010000
END:STANDARD
BEGIN:DAYLIGHT
TZOFFSETFROM:+0100
TZOFFSETTO:+0200
TZNAME:CEST
DTSTART:20250330T010000
END:DAYLIGHT
BEGIN:STANDARD
TZOFFSETFROM:+0200
TZOFFSETTO:+0100
TZNAME:CET
DTSTART:20251026T010000
END:STANDARD
BEGIN:DAYLIGHT
TZOFFSETFROM:+0100
TZOFFSETTO:+0200
TZNAME:CEST
DTSTART:20260329T010000
END:DAYLIGHT
BEGIN:STANDARD
TZOFFSETFROM:+0200
TZOFFSETTO:+0100
TZNAME:CET
DTSTART:20261025T010000
END:STANDARD
END:VTIMEZONE
BEGIN:VEVENT
DTSTART;TZID=Europe/Zurich:20251109T140000
DTEND;TZID=Europe/Zurich:20251109T160000
DTSTAMP:20260424T120422
CREATED:20250320T142646Z
LAST-MODIFIED:20251015T065723Z
UID:3269-1762696800-1762704000@www.stadtmusikarbon.ch
SUMMARY:Familienkonzert
DESCRIPTION:Die Musikmäuse im Blumenwunderland\nSonntag\, 9. November 2025\, 14.00 Uhr – Mehrzweckhalle Frasnacht \nDie Stadtmusik Arbon lädt Gross und Klein zum diesjährigen Familienkonzert ein! Unter dem Titel „Die Musikmäuse im Blumenwunderland“ erwartet das Publikum ein farbenfrohes musikalisches Märchen für Erzählerin und Blasorchester. \nMit dabei ist erneut Ruth Popp\, die bereits im vergangenen Jahr mit ihrer Erzählkunst bei Pinocchio begeisterte. Gemeinsam mit den Musikerinnen und Musikern der Stadtmusik nimmt sie das Publikum mit auf eine fantasievolle Reise voller Musik\, Magie und Mausabenteuer. \nNach dem Konzert gibt es für Kinder eine Instrumentenvorstellung – wer möchte\, darf selbst einmal in die Welt der Musik hineinschnuppern – und einen Malwettbewerb\, bei dem kreative Köpfe gefragt sind. \nEin Nachmittag für die ganze Familie – spannend\, klangvoll und bezaubernd zugleich! \nEintritt frei – KollekteWir freuen uns auf Ihren Besuch!
URL:https://www.stadtmusikarbon.ch/event/251109-familienkonzert/
LOCATION:Mehrzweckhalle Frasnacht\, Imbersbachweg 2\, Frasnacht\, 9320\, Switzerland
CATEGORIES:Konzert
ATTACH;FMTTYPE=image/jpeg:https://www.stadtmusikarbon.ch/wp-content/uploads/2025/03/fb_familienkonzert_1200_630px.jpg
END:VEVENT
BEGIN:VEVENT
DTSTART;TZID=Europe/Zurich:20250831T093000
DTEND;TZID=Europe/Zurich:20250831T120000
DTSTAMP:20260424T120422
CREATED:20250320T142444Z
LAST-MODIFIED:20250320T142444Z
UID:3265-1756632600-1756641600@www.stadtmusikarbon.ch
SUMMARY:Slow-up / Gottesdienst
DESCRIPTION:mit anschliessendem Platzkonzert
URL:https://www.stadtmusikarbon.ch/event/250831-slow-up-gottesdienst/
LOCATION:Mosterei Möhl\, St. Gallerstrasse 213\, Arbon\, 9320
CATEGORIES:Auftritt
END:VEVENT
BEGIN:VEVENT
DTSTART;TZID=Europe/Zurich:20250731T190000
DTEND;TZID=Europe/Zurich:20250731T220000
DTSTAMP:20260424T120422
CREATED:20250320T142546Z
LAST-MODIFIED:20250320T142546Z
UID:3267-1753988400-1753999200@www.stadtmusikarbon.ch
SUMMARY:1. Augustfeier / Bundesfeier
DESCRIPTION:
URL:https://www.stadtmusikarbon.ch/event/250731-augustfeier-bundesfeier/
LOCATION:Jakob-Züllig-Park\, Jakob-Züllig-Park\, Arbon\, 9320
CATEGORIES:Auftritt
END:VEVENT
BEGIN:VEVENT
DTSTART;TZID=Europe/Zurich:20250704T200000
DTEND;TZID=Europe/Zurich:20250704T210000
DTSTAMP:20260424T120422
CREATED:20250702T122109Z
LAST-MODIFIED:20250702T122109Z
UID:3411-1751659200-1751662800@www.stadtmusikarbon.ch
SUMMARY:Sommernachtsbar Frasnacht
DESCRIPTION:Wir spielen zusammen mit den Wannabes (Saxophon-Band).
URL:https://www.stadtmusikarbon.ch/event/250704-sommernachtsbar-frasnacht/
LOCATION:Mehrzweckhalle Frasnacht\, Imbersbachweg 2\, Frasnacht\, 9320\, Switzerland
CATEGORIES:Auftritt
END:VEVENT
BEGIN:VEVENT
DTSTART;TZID=Europe/Zurich:20250622T100000
DTEND;TZID=Europe/Zurich:20250622T123000
DTSTAMP:20260424T120422
CREATED:20250320T142336Z
LAST-MODIFIED:20250320T142336Z
UID:3263-1750586400-1750595400@www.stadtmusikarbon.ch
SUMMARY:Fronleichnam
DESCRIPTION:
URL:https://www.stadtmusikarbon.ch/event/fronleichnam/
LOCATION:Jakob-Züllig-Park\, Jakob-Züllig-Park\, Arbon\, 9320
CATEGORIES:Auftritt
END:VEVENT
BEGIN:VEVENT
DTSTART;TZID=Europe/Zurich:20250525T080000
DTEND;TZID=Europe/Zurich:20250525T170000
DTSTAMP:20260424T120422
CREATED:20250320T142224Z
LAST-MODIFIED:20250320T142224Z
UID:3261-1748160000-1748192400@www.stadtmusikarbon.ch
SUMMARY:Erstkommunion
DESCRIPTION:
URL:https://www.stadtmusikarbon.ch/event/250525-erstkommunion/
CATEGORIES:Allgemein
END:VEVENT
BEGIN:VEVENT
DTSTART;TZID=Europe/Zurich:20250521T160000
DTEND;TZID=Europe/Zurich:20250521T190000
DTSTAMP:20260424T120422
CREATED:20250320T142118Z
LAST-MODIFIED:20250320T142118Z
UID:3259-1747843200-1747854000@www.stadtmusikarbon.ch
SUMMARY:Höchster Thurgauer in Arbon
DESCRIPTION:
URL:https://www.stadtmusikarbon.ch/event/250521-hoechster-thurgauer-in-arbon/
CATEGORIES:Konzert
END:VEVENT
BEGIN:VEVENT
DTSTART;VALUE=DATE:20250517
DTEND;VALUE=DATE:20250518
DTSTAMP:20260424T120422
CREATED:20250320T142004Z
LAST-MODIFIED:20250320T142004Z
UID:3257-1747440000-1747526399@www.stadtmusikarbon.ch
SUMMARY:Thurgauer Kantonalmusiktag
DESCRIPTION:Spielgemeinschaft mit MG Roggwil\, in Dussnang \nVortrag: 14:45\nParademusik: 17:20
URL:https://www.stadtmusikarbon.ch/event/250517-thurgauer-kantonalmusiktag/
CATEGORIES:Wettspiel
END:VEVENT
BEGIN:VEVENT
DTSTART;TZID=Europe/Zurich:20250425T190000
DTEND;TZID=Europe/Zurich:20250425T200000
DTSTAMP:20260424T120422
CREATED:20250320T141810Z
LAST-MODIFIED:20250320T141810Z
UID:3254-1745607600-1745611200@www.stadtmusikarbon.ch
SUMMARY:Vorbereitungskonzert Thurgauer Kantonalmusiktag
DESCRIPTION:
URL:https://www.stadtmusikarbon.ch/event/250425-vorbereitungskonzert-thurgauer-kantonalmusiktag/
LOCATION:Evangelische Kirche Roggwil\, Poststrasse 3\, Roggwil TG\, TG\, 9325\, Switzerland
CATEGORIES:Konzert
END:VEVENT
BEGIN:VEVENT
DTSTART;TZID=Europe/Zurich:20241124T153000
DTEND;TZID=Europe/Zurich:20241124T163000
DTSTAMP:20260424T120422
CREATED:20240205T165344Z
LAST-MODIFIED:20241119T131732Z
UID:2372-1732462200-1732465800@www.stadtmusikarbon.ch
SUMMARY:Geburtstagskonzert 90+
DESCRIPTION:Unser traditionelles Geburtstagsständchen für alle Jubilare der Stadt Arbon findet in diesem Jahr wieder im November statt.
URL:https://www.stadtmusikarbon.ch/event/241124-geburtstagskonzert-90/
LOCATION:Evangelisches Kirchgemeindehaus Arbon\, Römerstrasse 5\, Arbon\, TG\, 9320\, Switzerland
CATEGORIES:Konzert
END:VEVENT
BEGIN:VEVENT
DTSTART;TZID=Europe/Zurich:20241110T103000
DTEND;TZID=Europe/Zurich:20241110T120000
DTSTAMP:20260424T120422
CREATED:20241024T154805Z
LAST-MODIFIED:20241028T183812Z
UID:3018-1731234600-1731240000@www.stadtmusikarbon.ch
SUMMARY:Familienkonzert «Pinocchio - die Geschichte einer Holzpuppe»
DESCRIPTION:Für unsere jungen (hoffentlich) Nachwuchsmusiker spielen wir das musikalische Märchen von Pinocchio. \nErzählerin: Ruth Popp \n  \nDie Instrumente können dank unserer Ausbildungspartnerin Rondo – der Blasmusikschule im Thurgau –  gleich vor Ort ausprobiert werden.  \nUnterrichtsangebot in Arbon
URL:https://www.stadtmusikarbon.ch/event/241110-familienkonzert-pinocchio-die-geschichte-einer-holzpuppe/
LOCATION:Mehrzweckhalle Frasnacht\, Imbersbachweg 2\, Frasnacht\, 9320\, Switzerland
CATEGORIES:Konzert
ATTACH;FMTTYPE=image/jpeg:https://www.stadtmusikarbon.ch/wp-content/uploads/2024/10/fb_pinocchio1200_630px.jpg
END:VEVENT
BEGIN:VEVENT
DTSTART;TZID=Europe/Zurich:20240915T153000
DTEND;TZID=Europe/Zurich:20240915T180000
DTSTAMP:20260424T120422
CREATED:20240205T165758Z
LAST-MODIFIED:20240205T165758Z
UID:2378-1726414200-1726423200@www.stadtmusikarbon.ch
SUMMARY:Bettag (mit Jugendmusik)
DESCRIPTION:
URL:https://www.stadtmusikarbon.ch/event/240915-bettag-mit-jugendmusik/
CATEGORIES:Allgemein
END:VEVENT
BEGIN:VEVENT
DTSTART;TZID=Europe/Zurich:20240825T093000
DTEND;TZID=Europe/Zurich:20240825T120000
DTSTAMP:20260424T120422
CREATED:20240205T165500Z
LAST-MODIFIED:20240205T165500Z
UID:2374-1724578200-1724587200@www.stadtmusikarbon.ch
SUMMARY:Slow-up / Gottesdienst
DESCRIPTION:mit anschliessendem Platzkonzert
URL:https://www.stadtmusikarbon.ch/event/240825-slow-up-gottesdienst/
LOCATION:Mosterei Möhl\, St. Gallerstrasse 213\, Arbon\, 9320
CATEGORIES:Konzert
END:VEVENT
BEGIN:VEVENT
DTSTART;TZID=Europe/Zurich:20240609T120000
DTEND;TZID=Europe/Zurich:20240609T150000
DTSTAMP:20260424T120422
CREATED:20240205T165043Z
LAST-MODIFIED:20240518T123033Z
UID:2370-1717934400-1717945200@www.stadtmusikarbon.ch
SUMMARY:Unterhaltungskonzerte «Bella Italia»
DESCRIPTION:Die Stadtmusik Arbon lädt sich herzlich zu den diesjährigen Unterhaltungskonzerten unter dem Motto «Bella Italia» ein. Gemeinsam mit der Musikgesellschaft Neukirch-Egnach nehmen wir Sie mit auf eine musikalische Reise durch das wunderschöne Italien\, die Sie mit unvergesslichen Melodien und leidenschaftlichen Klängen verzaubern wird. \nLassen Sie uns mit den beschwingten Tönen von «Funiculi Funicula»\, das Lebensgefühl Neapels einfangen und von der kraftvollen Arie «Nessun Dorma» aus Puccinis «Turandot» berühren. Dabei dürfen auch die Filmmelodien von Ennio Morricone und Nino Rota nicht fehlen. Und nicht zuletzt sind es die bekannten Stücke wie «Gloria»\, «Vivo per Lei» oder «Volare»\, die uns auf einen hoffentlich wunderbaren Sommer einstimmen. \n\nVenezia (Konzertmarsch)\nPiccola Suite Italiana\nVivo per lei\nGloria\nMoment for Morricone\nFuniculi Funicula\nAida Gran Finale\nNessun Dorma\nBella Italia\nThe Godfather\nVolare\nA Tribute to Nino Rota\n\nDie beiden Konzerte finden wie gewohnt im Seeparksaal Arbon statt. Dass der Nachwuchs bei Spielerinnen und Spielern von Blasinstrumenten seit einiger Zeit dünn gesät ist\, spüren auch wir. Gleichzeitig ist die Durchführung von Konzerten auch mit einigem Aufwand verbunden. Darum haben wir uns zu einem Gemeinschaftsprojekt mit der Musikgesellschaft Neukirch-Egnach verbunden und freuen uns\, ein mitreissendes Erlebnis bieten zu können. \nUnd was wäre Italien ohne sein Essen? Damit nicht nur die Ohren\, sondern auch noch der Gaumen auf seine Kosten kommen\, offerieren wir Ihnen ein italienisches Menü mit einem frischen Salat und einem Teller Spaghetti mit einer Auswahl aus drei hausgemachten Saucen: Bolognese-\, Napoli- oder Basilikumrahmsauce. \nDer Eintritt beträgt Fr. 25.— mit Menü\, für Jugendliche bis 16 Jahre ihr Alter und für Kinder bis 6 Jahre ist das Konzert kostenlos. Der Eintritt ohne Menü beträgt Fr. 15.—. \nDamit Sie Ihren bevorzugten Platz im Vorfeld auswählen können\, bieten wir eine Reservationsmöglichkeit auf unserer Website an. Unter www.bellaitalia.show oder über den QR-Code auf dem Flyer gelangen Sie zu weiteren Informationen.
URL:https://www.stadtmusikarbon.ch/event/240609-unterhaltungskonzerte/
LOCATION:Seeparksaal\, Seeparksaal\, Arbon\, 9320
CATEGORIES:Konzert
ATTACH;FMTTYPE=image/jpeg:https://www.stadtmusikarbon.ch/wp-content/uploads/2024/02/fb_1200_630px.jpg
END:VEVENT
BEGIN:VEVENT
DTSTART;TZID=Europe/Zurich:20240608T193000
DTEND;TZID=Europe/Zurich:20240608T220000
DTSTAMP:20260424T120422
CREATED:20240205T164947Z
LAST-MODIFIED:20240518T123133Z
UID:2368-1717875000-1717884000@www.stadtmusikarbon.ch
SUMMARY:Unterhaltungskonzerte «Bella Italia»
DESCRIPTION:Die Stadtmusik Arbon lädt sich herzlich zu den diesjährigen Unterhaltungskonzerten unter dem Motto «Bella Italia» ein. Gemeinsam mit der Musikgesellschaft Neukirch-Egnach nehmen wir Sie mit auf eine musikalische Reise durch das wunderschöne Italien\, die Sie mit unvergesslichen Melodien und leidenschaftlichen Klängen verzaubern wird. \nLassen Sie uns mit den beschwingten Tönen von «Funiculi Funicula»\, das Lebensgefühl Neapels einfangen und von der kraftvollen Arie «Nessun Dorma» aus Puccinis «Turandot» berühren. Dabei dürfen auch die Filmmelodien von Ennio Morricone und Nino Rota nicht fehlen. Und nicht zuletzt sind es die bekannten Stücke wie «Gloria»\, «Vivo per Lei» oder «Volare»\, die uns auf einen hoffentlich wunderbaren Sommer einstimmen. \n\nVenezia (Konzertmarsch)\nPiccola Suite Italiana\nVivo per lei\nGloria\nMoment for Morricone\nFuniculi Funicula\nAida Gran Finale\nNessun Dorma\nBella Italia\nThe Godfather\nVolare\nA Tribute to Nino Rota\n\nDie beiden Konzerte finden wie gewohnt im Seeparksaal Arbon statt. Dass der Nachwuchs bei Spielerinnen und Spielern von Blasinstrumenten seit einiger Zeit dünn gesät ist\, spüren auch wir. Gleichzeitig ist die Durchführung von Konzerten auch mit einigem Aufwand verbunden. Darum haben wir uns zu einem Gemeinschaftsprojekt mit der Musikgesellschaft Neukirch-Egnach verbunden und freuen uns\, ein mitreissendes Erlebnis bieten zu können. \nUnd was wäre Italien ohne sein Essen? Damit nicht nur die Ohren\, sondern auch noch der Gaumen auf seine Kosten kommen\, offerieren wir Ihnen ein italienisches Menü mit einem frischen Salat und einem Teller Spaghetti mit einer Auswahl aus drei hausgemachten Saucen: Bolognese-\, Napoli- oder Basilikumrahmsauce. \nDer Eintritt beträgt Fr. 25.— mit Menü\, für Jugendliche bis 16 Jahre ihr Alter und für Kinder bis 6 Jahre ist das Konzert kostenlos. Der Eintritt ohne Menü beträgt Fr. 15.—. \nDamit Sie Ihren bevorzugten Platz im Vorfeld auswählen können\, bieten wir eine Reservationsmöglichkeit auf unserer Website an. Unter www.bellaitalia.show oder über den QR-Code auf dem Flyer gelangen Sie zu weiteren Informationen.
URL:https://www.stadtmusikarbon.ch/event/240608-unterhaltungskonzerte/
LOCATION:Seeparksaal\, Seeparksaal\, Arbon\, 9320
CATEGORIES:Konzert
ATTACH;FMTTYPE=image/jpeg:https://www.stadtmusikarbon.ch/wp-content/uploads/2024/02/fb_1200_630px.jpg
END:VEVENT
BEGIN:VEVENT
DTSTART;TZID=Europe/Zurich:20240504T080000
DTEND;TZID=Europe/Zurich:20240504T170000
DTSTAMP:20260424T120422
CREATED:20240205T165613Z
LAST-MODIFIED:20240205T165634Z
UID:2376-1714809600-1714842000@www.stadtmusikarbon.ch
SUMMARY:Tag der Musik
DESCRIPTION:
URL:https://www.stadtmusikarbon.ch/event/240504-tag-der-musik/
LOCATION:Rondelle\, Grabenstrasse 8\, Arbon\, TG\, 9320
CATEGORIES:Konzert
END:VEVENT
BEGIN:VEVENT
DTSTART;TZID=Europe/Zurich:20231029T140000
DTEND;TZID=Europe/Zurich:20231029T170000
DTSTAMP:20260424T120422
CREATED:20230111T170240Z
LAST-MODIFIED:20231018T125344Z
UID:2036-1698588000-1698598800@www.stadtmusikarbon.ch
SUMMARY:Unterhaltungskonzerte
DESCRIPTION:Die Stadtmusik Arbon entführt Sie an den Unterhaltungskonzerten vom 28./29. Oktober nach Hollywood. Mit bekannten Melodien aus beliebten Filmklassikern erleben Sie hautnah den Jurassic Park\, gehen mit James Bond auf Verbrecherjagd und spüren das Beben im Kolosseum\, wenn die Gladiatoren aufeinander treffen.  \n \nProgramm: \n\nBack to the Future\nGladiator\nStar Wars – The Marches\nJames Bond 007\nZorba the Greek\nJurassic Park\nAvatar\nForrest Gump Suite\nTribute to Nino Rota\n\nDownload Programheft
URL:https://www.stadtmusikarbon.ch/event/231029-unterhaltungskonzerte/
LOCATION:Seeparksaal\, Seeparksaal\, Arbon\, 9320
CATEGORIES:Konzert
ATTACH;FMTTYPE=image/jpeg:https://www.stadtmusikarbon.ch/wp-content/uploads/2023/10/sma_uk_2023_horizontal.jpg
END:VEVENT
BEGIN:VEVENT
DTSTART;TZID=Europe/Zurich:20231028T200000
DTEND;TZID=Europe/Zurich:20231028T220000
DTSTAMP:20260424T120422
CREATED:20230111T170157Z
LAST-MODIFIED:20231018T125346Z
UID:2034-1698523200-1698530400@www.stadtmusikarbon.ch
SUMMARY:Unterhaltungskonzerte
DESCRIPTION:Die Stadtmusik Arbon entführt Sie an den Unterhaltungskonzerten vom 28./29. Oktober nach Hollywood. Mit bekannten Melodien aus beliebten Filmklassikern erleben Sie hautnah den Jurassic Park\, gehen mit James Bond auf Verbrecherjagd und spüren das Beben im Kolosseum\, wenn die Gladiatoren aufeinander treffen.  \n \nProgramm: \n\nBack to the Future\nGladiator\nStar Wars – The Marches\nJames Bond 007\nZorba the Greek\nJurassic Park\nAvatar\nForrest Gump Suite\nTribute to Nino Rota\n\nDownload Programheft
URL:https://www.stadtmusikarbon.ch/event/231028-unterhaltungskonzerte/
LOCATION:Seeparksaal\, Seeparksaal\, Arbon\, 9320
CATEGORIES:Konzert
ATTACH;FMTTYPE=image/jpeg:https://www.stadtmusikarbon.ch/wp-content/uploads/2023/10/sma_uk_2023_horizontal.jpg
END:VEVENT
BEGIN:VEVENT
DTSTART;TZID=Europe/Zurich:20230903T153000
DTEND;TZID=Europe/Zurich:20230903T163000
DTSTAMP:20260424T120422
CREATED:20230828T165222Z
LAST-MODIFIED:20230828T165222Z
UID:2269-1693755000-1693758600@www.stadtmusikarbon.ch
SUMMARY:Geburtstagskonzert 90+
DESCRIPTION:Unser traditionelles Geburtstagsständchen für alle Jubilare der Stadt Arbon findet in diesem Jahr auf dem Platz vor dem Seeparksaal statt.
URL:https://www.stadtmusikarbon.ch/event/230903-geburtstagskonzert-90/
LOCATION:Seeparksaal\, Seeparksaal\, Arbon\, 9320
CATEGORIES:Konzert
END:VEVENT
BEGIN:VEVENT
DTSTART;TZID=Europe/Zurich:20230630T200000
DTEND;TZID=Europe/Zurich:20230630T210000
DTSTAMP:20260424T120422
CREATED:20230111T165938Z
LAST-MODIFIED:20230111T165959Z
UID:2030-1688155200-1688158800@www.stadtmusikarbon.ch
SUMMARY:Platzkonzert am See
DESCRIPTION:
URL:https://www.stadtmusikarbon.ch/event/230630-platzkonzert-am-see/
CATEGORIES:Konzert
END:VEVENT
BEGIN:VEVENT
DTSTART;TZID=Europe/Zurich:20230610T143000
DTEND;TZID=Europe/Zurich:20230610T160000
DTSTAMP:20260424T120422
CREATED:20230111T165648Z
LAST-MODIFIED:20230605T143248Z
UID:2028-1686407400-1686412800@www.stadtmusikarbon.ch
SUMMARY:Thurgauer Kantonalmusikfest
DESCRIPTION:
URL:https://www.stadtmusikarbon.ch/event/2023-thurgauer-kantonalmusikfest/
CATEGORIES:Wettspiel
ATTACH;FMTTYPE=image/png:https://www.stadtmusikarbon.ch/wp-content/uploads/2023/01/tkmf-flyer.png
END:VEVENT
BEGIN:VEVENT
DTSTART;TZID=Europe/Zurich:20230430T110000
DTEND;TZID=Europe/Zurich:20230430T120000
DTSTAMP:20260424T120422
CREATED:20230111T165528Z
LAST-MODIFIED:20230111T165543Z
UID:2026-1682852400-1682856000@www.stadtmusikarbon.ch
SUMMARY:Privatkonzert
DESCRIPTION:
URL:https://www.stadtmusikarbon.ch/event/230430-privatkonzert/
CATEGORIES:Konzert
END:VEVENT
BEGIN:VEVENT
DTSTART;TZID=Europe/Zurich:20230325T193000
DTEND;TZID=Europe/Zurich:20230325T230000
DTSTAMP:20260424T120422
CREATED:20230111T165225Z
LAST-MODIFIED:20230317T141324Z
UID:2023-1679772600-1679785200@www.stadtmusikarbon.ch
SUMMARY:Broadway
DESCRIPTION:Gemeinschafts-Unterhaltungskonzert mit der Stadtmusik Gossau
URL:https://www.stadtmusikarbon.ch/event/230325-broadway/
LOCATION:Presswerk Arbon\, Hamelstrasse 15\, Arbon\, TG\, 9320\, Schweiz
CATEGORIES:Konzert
ATTACH;FMTTYPE=image/png:https://www.stadtmusikarbon.ch/wp-content/uploads/2023/03/broadway-1200-630.png
END:VEVENT
BEGIN:VEVENT
DTSTART;TZID=Europe/Zurich:20230319T140000
DTEND;TZID=Europe/Zurich:20230319T180000
DTSTAMP:20260424T120422
CREATED:20230111T165131Z
LAST-MODIFIED:20230317T141329Z
UID:2021-1679234400-1679248800@www.stadtmusikarbon.ch
SUMMARY:Broadway
DESCRIPTION:Gemeinschafts-Unterhaltungskonzert mit der Stadtmusik Gossau\nFamilienkonzert mit reduziertem Programm
URL:https://www.stadtmusikarbon.ch/event/230319-broadway/
LOCATION:Fürstenlandsaal Gossau\, Bahnhofstrasse 29\, Gossau\, SG\, 9200
CATEGORIES:Konzert
ATTACH;FMTTYPE=image/png:https://www.stadtmusikarbon.ch/wp-content/uploads/2023/03/broadway-1200-630.png
END:VEVENT
BEGIN:VEVENT
DTSTART;TZID=Europe/Zurich:20230318T193000
DTEND;TZID=Europe/Zurich:20230318T230000
DTSTAMP:20260424T120422
CREATED:20230111T164849Z
LAST-MODIFIED:20230317T141251Z
UID:2017-1679167800-1679180400@www.stadtmusikarbon.ch
SUMMARY:Broadway
DESCRIPTION:Gemeinschafts-Unterhaltungskonzert mit der Stadtmusik Gossau
URL:https://www.stadtmusikarbon.ch/event/230318-broadway/
LOCATION:Fürstenlandsaal Gossau\, Bahnhofstrasse 29\, Gossau\, SG\, 9200
CATEGORIES:Konzert
ATTACH;FMTTYPE=image/png:https://www.stadtmusikarbon.ch/wp-content/uploads/2023/03/broadway-1200-630.png
END:VEVENT
BEGIN:VEVENT
DTSTART;TZID=Europe/Zurich:20221113T100000
DTEND;TZID=Europe/Zurich:20221113T110000
DTSTAMP:20260424T120422
CREATED:20220310T100227Z
LAST-MODIFIED:20220310T100227Z
UID:1851-1668333600-1668337200@www.stadtmusikarbon.ch
SUMMARY:Geburtstagskonzert 90+
DESCRIPTION:Unser traditionelles Geburtstagsständchen für alle Jubilare der Stadt Arbon.
URL:https://www.stadtmusikarbon.ch/event/221113-geburtstagskonzert-90/
LOCATION:Landenbergsaal\, Schloss\, Arbon\, 9320\, Schweiz
CATEGORIES:Konzert
END:VEVENT
BEGIN:VEVENT
DTSTART;TZID=Europe/Zurich:20221030T140000
DTEND;TZID=Europe/Zurich:20221030T170000
DTSTAMP:20260424T120422
CREATED:20220310T100106Z
LAST-MODIFIED:20220907T150620Z
UID:1849-1667138400-1667149200@www.stadtmusikarbon.ch
SUMMARY:Unterhaltungskonzerte 2022
DESCRIPTION:
URL:https://www.stadtmusikarbon.ch/event/221030-unterhaltungskonzerte-2022/
LOCATION:Seeparksaal\, Seeparksaal\, Arbon\, 9320
CATEGORIES:Konzert
ATTACH;FMTTYPE=image/jpeg:https://www.stadtmusikarbon.ch/wp-content/uploads/2022/03/som_1200_630px_unterhaltungskonzerte_22_.jpg
END:VEVENT
BEGIN:VEVENT
DTSTART;TZID=Europe/Zurich:20221029T200000
DTEND;TZID=Europe/Zurich:20221029T220000
DTSTAMP:20260424T120422
CREATED:20220310T100000Z
LAST-MODIFIED:20220907T151102Z
UID:1847-1667073600-1667080800@www.stadtmusikarbon.ch
SUMMARY:Unterhaltungskonzerte 2022
DESCRIPTION:
URL:https://www.stadtmusikarbon.ch/event/221129-unterhaltungskonzerte-2022/
LOCATION:Seeparksaal\, Seeparksaal\, Arbon\, 9320
CATEGORIES:Konzert
ATTACH;FMTTYPE=image/jpeg:https://www.stadtmusikarbon.ch/wp-content/uploads/2022/03/som_1200_630px_unterhaltungskonzerte_22_.jpg
END:VEVENT
BEGIN:VEVENT
DTSTART;TZID=Europe/Zurich:20220828T093000
DTEND;TZID=Europe/Zurich:20220828T120000
DTSTAMP:20260424T120422
CREATED:20220310T095846Z
LAST-MODIFIED:20220310T095846Z
UID:1845-1661679000-1661688000@www.stadtmusikarbon.ch
SUMMARY:Slow-up / Gottesdienst
DESCRIPTION:mit anschliessendem Platzkonzert
URL:https://www.stadtmusikarbon.ch/event/220828-slow-up-gottesdienst/
LOCATION:Mosterei Möhl\, St. Gallerstrasse 213\, Arbon\, 9320
CATEGORIES:Konzert
END:VEVENT
BEGIN:VEVENT
DTSTART;TZID=Europe/Zurich:20220731T190000
DTEND;TZID=Europe/Zurich:20220731T220000
DTSTAMP:20260424T120422
CREATED:20220310T095615Z
LAST-MODIFIED:20220310T095615Z
UID:1841-1659294000-1659304800@www.stadtmusikarbon.ch
SUMMARY:1. Augustfeier / Bundesfeier
DESCRIPTION:
URL:https://www.stadtmusikarbon.ch/event/220731-1-augustfeier-bundesfeier/
LOCATION:Jakob-Züllig-Park\, Jakob-Züllig-Park\, Arbon\, 9320
CATEGORIES:Konzert
END:VEVENT
END:VCALENDAR